BEGIN:VCALENDAR
VERSION:2.0
PRODID:icalendar-ruby
CALSCALE:GREGORIAN
METHOD:PUBLISH
BEGIN:VEVENT
DTSTAMP:20260424T035710Z
UID:6-537707@farmingtonmethodistchurchnc.org
DTSTART:20260920T150000Z
DTEND:20260920T160000Z
CLASS:PUBLIC
CREATED:20260423T223837
DESCRIPTION:
LAST-MODIFIED:20260423T223837
LOCATION:
SUMMARY:Sunday Worship Service
URL;VALUE=URI:https://www.farmingtonmethodistchurchnc.org/events/sunday-wor
 ship-service/2026-09-20
ATTACH;FILENAME=Light-Just-Right-Worship-Service.JPG;FMTTYPE=image/jpeg:htt
 ps://dq5pwpg1q8ru0.cloudfront.net/2024/02/07/19/03/38/375bdf1f-f45d-40d5-8
 149-2953e1118b51/Light-Just-Right-Worship-Service.JPG
END:VEVENT
END:VCALENDAR
